Workbook
Name valuevx: 42.314159

Sheet EmployeeInfo
A1: Employee Payroll Information
A2: Updated 5/16/2014
A4: ID | B4: Surname | C4: Name | D4: ID Number | E4: Address | F4: M/F | G4: Occupation | H4: Hire Date | I4: Annual Salary (R) | J4: Regular Hourly Rate(R ) | K4: Overtime Hourly Rate (R ) | L4: O.T Hrs | M4: Over Time | N4: UIF Contr | O4: PAYE | P4: Insur. Deduct. | Q4: Other Deduct. | R4: Other Deductions ( R)
A5: 1 | B5: Regular | C5: John Doe | D5: ***-***-0000 | E5: 123 Anystreet, Anytown, GP, 2000 | F5: M | G5: Admin Clerk | H5: 40364 | I5: 45250 | J5: =ROUND(I5/26/80,2) -> 21.75 | K5: =1.5*J5 -> 32.625 | P5: 0.03 | Q5: 26
A39: Insert new rows above this line. | I39: [42]

Sheet PayrollRegister
A1: Payroll Register
F2: Daily Hours Worked | M2: Total Hours | W2: Withholdings & Deductions | AA2: [42]
A3: Payment Date | B3: Pay Period | C3: ID | D3: Surname | E3: Name | F3: M | G3: Tu | H3: W | I3: Th | J3: F | K3: Sa | L3: Su | M3: Reg. Hrs | N3: Vac. Hrs | O3: Sick Hrs | P3: Holid. Hrs | Q3: Pers. Hrs | R3: O.T. Hrs | S3: Total Reg. Pay | T3: Total O.T. Pay | U3: Reimbursements Paid | V3: GROSS PAY (R) | W3: UIF Contr | X3: PAYE | Y3: Insur. Deduct. | Z3: Other Deduct. | AA3: NET PAY (R)
A4: 45861 | B4: 7/5/25-7/18/25 | C4: 1 | D4: Regular | E4: =IF(ISBLANK(C4),"",INDEX(EmployeeInfo!C:C,MATCH($C4,EmployeeInfo!A:A,0))) -> John Doe | M4: 40 | N4: 4 | V4: 1062.5 | W4: =1/100*V4 -> 10.625 | X4: 159.375 | Y4: 26 | Z4: 0 | AA4: =V4+U4-SUM(W4:Z4) -> 866.5
AA5: =V5-SUM(W5:Z5) -> 0
AA6: =V6-SUM(W6:Z6) -> 0
AA7: =V7-SUM(W7:Z7) -> 0
AA8: =V8-SUM(W8:Z8) -> 0
AA9: =V9-SUM(W9:Z9) -> 0
AA10: =V10-SUM(W10:Z10) -> 0
AA11: =V11-SUM(W11:Z11) -> 0
AA12: =V12-SUM(W12:Z12) -> 0
AA13: =V13-SUM(W13:Z13) -> 0
AA14: =V14-SUM(W14:Z14) -> 0
AA15: =V15-SUM(W15:Z15) -> 0
E16: =IF(ISBLANK(C16),"",INDEX(EmployeeInfo!C:C,MATCH($C16,EmployeeInfo!A:A,0))) | AA16: =V16-SUM(W16:Z16) -> 0
E17: =IF(ISBLANK(C17),"",INDEX(EmployeeInfo!C:C,MATCH($C17,EmployeeInfo!A:A,0))) | AA17: =V17-SUM(W17:Z17) -> 0
E18: =IF(ISBLANK(C18),"",INDEX(EmployeeInfo!C:C,MATCH($C18,EmployeeInfo!A:A,0))) | AA18: =V18-SUM(W18:Z18) -> 0
E19: =IF(ISBLANK(C19),"",INDEX(EmployeeInfo!C:C,MATCH($C19,EmployeeInfo!A:A,0))) | AA19: =V19-SUM(W19:Z19) -> 0
E20: =IF(ISBLANK(C20),"",INDEX(EmployeeInfo!C:C,MATCH($C20,EmployeeInfo!A:A,0))) | AA20: =V20-SUM(W20:Z20) -> 0
E21: =IF(ISBLANK(C21),"",INDEX(EmployeeInfo!C:C,MATCH($C21,EmployeeInfo!A:A,0))) | AA21: =V21-SUM(W21:Z21) -> 0
E22: =IF(ISBLANK(C22),"",INDEX(EmployeeInfo!C:C,MATCH($C22,EmployeeInfo!A:A,0))) | AA22: =V22-SUM(W22:Z22) -> 0
E23: =IF(ISBLANK(C23),"",INDEX(EmployeeInfo!C:C,MATCH($C23,EmployeeInfo!A:A,0))) | AA23: =V23-SUM(W23:Z23) -> 0
E24: =IF(ISBLANK(C24),"",INDEX(EmployeeInfo!C:C,MATCH($C24,EmployeeInfo!A:A,0))) | AA24: =V24-SUM(W24:Z24) -> 0
E25: =IF(ISBLANK(C25),"",INDEX(EmployeeInfo!C:C,MATCH($C25,EmployeeInfo!A:A,0))) | AA25: =V25-SUM(W25:Z25) -> 0
E26: =IF(ISBLANK(C26),"",INDEX(EmployeeInfo!C:C,MATCH($C26,EmployeeInfo!A:A,0))) | AA26: =V26-SUM(W26:Z26) -> 0
E27: =IF(ISBLANK(C27),"",INDEX(EmployeeInfo!C:C,MATCH($C27,EmployeeInfo!A:A,0))) | AA27: =V27-SUM(W27:Z27) -> 0
... E45: =IF(ISBLANK(C45),"",INDEX(EmployeeInfo!C:C,MATCH($C45,EmployeeInfo!A:A,0))) | AA45: =V45-SUM(W45:Z45) -> 0
A46: Insert new rows above this line. | N46: {42}

Sheet ©
B1: Payroll Register Template
B3: By Vertex42.com
B4: https://www.vertex42.com/ExcelTemplates/payroll-register.html
B6: © 2010-2014 Vertex42 LLC
B8: This spreadsheet, including all worksheets and associated content is considered a copyrighted work under the United States and other copyright laws.
B10: Do not submit copies or modifications of this template to any website or online template gallery.
B12: Please review the following license agreement to learn how you may or may not use this template. Thank you.
B14: https://www.vertex42.com/licensing/EULA_privateuse.html
B16: Do not delete this worksheet. If necessary, you may hide it by right-clicking on the tab and selecting Hide.
